BEGIN:VCALENDAR
VERSION:2.0
PRODID:-//Nicole Peyrafitte - ECPv6.15.20//NONSGML v1.0//EN
CALSCALE:GREGORIAN
METHOD:PUBLISH
X-WR-CALNAME:Nicole Peyrafitte
X-ORIGINAL-URL:https://www.nicolepeyrafitte.com
X-WR-CALDESC:Events for Nicole Peyrafitte
REFRESH-INTERVAL;VALUE=DURATION:PT1H
X-Robots-Tag:noindex
X-PUBLISHED-TTL:PT1H
BEGIN:VTIMEZONE
TZID:UTC
BEGIN:STANDARD
TZOFFSETFROM:+0000
TZOFFSETTO:+0000
TZNAME:UTC
DTSTART:20230101T000000
END:STANDARD
END:VTIMEZONE
BEGIN:VEVENT
DTSTART;VALUE=DATE:20240625
DTEND;VALUE=DATE:20240719
DTSTAMP:20260422T113455
CREATED:20240401T195802Z
LAST-MODIFIED:20240401T195950Z
UID:10927-1719273600-1721347199@www.nicolepeyrafitte.com
SUMMARY:100 WOMEN OF SPIRIT Exhibition
DESCRIPTION:Very excited to announce the 100 WOMEN OF SPIRIT exhibition!\nopening on Tuesday\, June 25th from 2:00-6:00 PM on view through July 18th\, 2024. \nThis exhibition will be the culmination of the 9 editions of 11 Women of Spirit that have taken place over the last four years and will feature the work of all 99 Women who have participated in the project. I was included in the first installment .\n \n\n\n\nZÜRCHER\n\n\nNew York / Paris\n \nwww.galeriezurcher.com\nZürcher Gallery\n33 Bleecker Street\, New York NY 10012\nTel: +1 212-777-0790
URL:https://www.nicolepeyrafitte.com/event/100-women-of-spirit-exhibition/
LOCATION:Zürcher Gallery\, 33 Bleecker Street\, NY
END:VEVENT
END:VCALENDAR