BEGIN:VCALENDAR
VERSION:2.0
PRODID:-//Nicole Peyrafitte - ECPv6.15.20//NONSGML v1.0//EN
CALSCALE:GREGORIAN
METHOD:PUBLISH
X-WR-CALNAME:Nicole Peyrafitte
X-ORIGINAL-URL:https://www.nicolepeyrafitte.com
X-WR-CALDESC:Events for Nicole Peyrafitte
REFRESH-INTERVAL;VALUE=DURATION:PT1H
X-Robots-Tag:noindex
X-PUBLISHED-TTL:PT1H
BEGIN:VTIMEZONE
TZID:UTC
BEGIN:STANDARD
TZOFFSETFROM:+0000
TZOFFSETTO:+0000
TZNAME:UTC
DTSTART:20230101T000000
END:STANDARD
END:VTIMEZONE
BEGIN:VEVENT
DTSTART;TZID=UTC:20240511T130000
DTEND;TZID=UTC:20240511T140000
DTSTAMP:20260422T112641
CREATED:20240401T201534Z
LAST-MODIFIED:20240401T201829Z
UID:10932-1715432400-1715436000@www.nicolepeyrafitte.com
SUMMARY:Earth Celebrations’ – Ecological and Social Change through the Arts
DESCRIPTION:Join me for Earth Celebrations for the Ecological City: Procession for Climate Solutions \nSaturday May 11\, 2024 (rain date Sunday May 12) \nA short performance action: Lifeworld at Jardin del Paraiso  celebrating the spirit of the moment at El Jardin\nDetailed program will be uploaded here closer to the date. \nECOLOGICAL CITY – Art & Climate Solutions Action project applies Earth Celebrations’ innovative cultural strategies to engage our Lower East Side community and build engagement\, collaboration and action on climate challenges and solutions to mitigate impacts of flooding and sea-level rise\, decrease waste\, improve water quality and conservation\, cultivate sustainable urban agriculture and reduce carbon and global warming.\n\n 
URL:https://www.nicolepeyrafitte.com/event/earth-celebrations-ecological-and-social-change-through-the-arts/
LOCATION:Jardin del Paraiso
CATEGORIES:Action/Performance,Performance
END:VEVENT
END:VCALENDAR