BEGIN:VCALENDAR
VERSION:2.0
PRODID:-//Nicole Peyrafitte - ECPv6.15.20//NONSGML v1.0//EN
CALSCALE:GREGORIAN
METHOD:PUBLISH
X-ORIGINAL-URL:https://www.nicolepeyrafitte.com
X-WR-CALDESC:Events for Nicole Peyrafitte
REFRESH-INTERVAL;VALUE=DURATION:PT1H
X-Robots-Tag:noindex
X-PUBLISHED-TTL:PT1H
BEGIN:VTIMEZONE
TZID:UTC
BEGIN:STANDARD
TZOFFSETFROM:+0000
TZOFFSETTO:+0000
TZNAME:UTC
DTSTART:20240101T000000
END:STANDARD
END:VTIMEZONE
BEGIN:VEVENT
DTSTART;TZID=UTC:20251115T120000
DTEND;TZID=UTC:20251123T150000
DTSTAMP:20260422T222340
CREATED:20251107T200550Z
LAST-MODIFIED:20251107T200810Z
UID:11821-1763208000-1763910000@www.nicolepeyrafitte.com
SUMMARY:Stand 4 Gallery : A Degree of Uncertainty II
DESCRIPTION:A Degree of Uncertainty II\nStand4 Gallery & Community Art Center\n414 78th Street\, Brooklyn\, NY\nNovember 15 – 23\, 2025\nGallery hours: Saturdays & Sundays\, 12–3 PM \nI’m pleased to take part in this invitational small-works exhibition exploring how every measure—of art\, life\, or science—carries its own degree of uncertainty.\nWorks are available for purchase online through Stand4 Gallery’s shop & webiste:https://stand4-gallery.square.site/s/shop
URL:https://www.nicolepeyrafitte.com/event/stand-4-gallery-a-degree-of-uncertainty-ii/
LOCATION:STAND4 Gallery\, 414 78th Street\, Brooklyn\, NY\, 11209\, United States
CATEGORIES:Exhibition
END:VEVENT
END:VCALENDAR