BEGIN:VCALENDAR
VERSION:2.0
PRODID:-//Nicole Peyrafitte - ECPv6.15.20//NONSGML v1.0//EN
CALSCALE:GREGORIAN
METHOD:PUBLISH
X-ORIGINAL-URL:https://www.nicolepeyrafitte.com
X-WR-CALDESC:Events for Nicole Peyrafitte
REFRESH-INTERVAL;VALUE=DURATION:PT1H
X-Robots-Tag:noindex
X-PUBLISHED-TTL:PT1H
BEGIN:VTIMEZONE
TZID:UTC
BEGIN:STANDARD
TZOFFSETFROM:+0000
TZOFFSETTO:+0000
TZNAME:UTC
DTSTART:20230101T000000
END:STANDARD
END:VTIMEZONE
BEGIN:VEVENT
DTSTART;VALUE=DATE:20240612
DTEND;VALUE=DATE:20240613
DTSTAMP:20260422T160017
CREATED:20240604T192227Z
LAST-MODIFIED:20240604T192227Z
UID:11129-1718150400-1718236799@www.nicolepeyrafitte.com
SUMMARY:Sympoiesis & Conviviality at Mildred’s Lane
DESCRIPTION:I am delighted to be part of The Land Stewardship & Skill Share a week of workshops at Mildred’s Lane.\nThe session runs from June 7-14\nSYMPOESIS & CONVIVIALITY will be on Thursday June 12:\nNicole Peyrafitte will guide participants through a “walk-shop” (walking workshop) to engage in conviviality (living-with) and sympoiesis (making-with\, or becoming-with) the rich multispecies environment at Mildred’s Lane. Silent walking and listening will be interspersed with adaptive expercises that shift our expectations about how we move through and engage with a site\, from experimental movement to making music. The walk will yield surprising perceptions both for those who (think they) know Mildred’s Lane well\, and for those – like Nicole – who have never visited before! \nAfter the “walk-shop\,” Nicole will make crêpes for a lunchtime “cook-shop\,” teaching us the history and technique of this traditional French food\, which is affordable to make\, adaptable to a variety of diets\, and easily inflected by readily-available fillings and toppings — in this case\, farm-fresh produce\, dairy\, and foraged herbs and fungi.
URL:https://www.nicolepeyrafitte.com/event/sympoiesis-conviviality-at-mildreds-lane/
LOCATION:MILDRED’S LANE\, 517 Plank Road\, Beach Lake\, 18405\, United States
END:VEVENT
END:VCALENDAR