BEGIN:VCALENDAR
VERSION:2.0
PRODID:-//Nicole Peyrafitte - ECPv6.15.20//NONSGML v1.0//EN
CALSCALE:GREGORIAN
METHOD:PUBLISH
X-WR-CALNAME:Nicole Peyrafitte
X-ORIGINAL-URL:https://www.nicolepeyrafitte.com
X-WR-CALDESC:Events for Nicole Peyrafitte
REFRESH-INTERVAL;VALUE=DURATION:PT1H
X-Robots-Tag:noindex
X-PUBLISHED-TTL:PT1H
BEGIN:VTIMEZONE
TZID:UTC
BEGIN:STANDARD
TZOFFSETFROM:+0000
TZOFFSETTO:+0000
TZNAME:UTC
DTSTART:20220101T000000
END:STANDARD
END:VTIMEZONE
BEGIN:VEVENT
DTSTART;TZID=UTC:20231028T100000
DTEND;TZID=UTC:20231028T130000
DTSTAMP:20260423T012800
CREATED:20231010T184242Z
LAST-MODIFIED:20231010T184242Z
UID:10727-1698487200-1698498000@www.nicolepeyrafitte.com
SUMMARY:A Sympoietic Walk/Shop through Constitution Marsh
DESCRIPTION:A Sympoietic Walk/Shop through Constitution Marsh led by Nicole Peyrafitte \nSympoiesis or “making-with” is a term used by Donna Haraway\, the feminist philosopher of science\, who has been calling for an interspecies symbiosis. Join us in exploring a more intimate relation with the natural world. \nSuggested Material & Equipment to bring: \n\nSmall notebook\nPencils/pens\nCamera\nSnacks/Water/Tick repellent/ Sunscreen\nSmall musical instrument\nGood hiking shoes – we will be walking and the terrain is rough until we get to the boardwalk\n\n\n\n\n\n\n \nSign up here: 
URL:https://www.nicolepeyrafitte.com/event/a-sympoietic-walk-shop-through-constitution-marsh/
LOCATION:NY
END:VEVENT
END:VCALENDAR